BEGIN:VCALENDAR
VERSION:2.0
PRODID:-//Sabre//Sabre VObject 4.5.8//EN
CALSCALE:GREGORIAN
BEGIN:VEVENT
UID:criticalmass-one-erlangen-1547226000
DTSTAMP:20260423T224233Z
SUMMARY:Critical Mass Erlangen 11.01.2019
DTSTART;TZID=Europe/Berlin:20190111T180000
DTEND;TZID=Europe/Berlin:20190111T200000
GEO:49.590962;11.006854
URL;VALUE=URI:https://criticalmass.in/erlangen/2019-01-11
END:VEVENT
END:VCALENDAR
