BEGIN:VCALENDAR
VERSION:2.0
PRODID:-//Sabre//Sabre VObject 4.5.8//EN
CALSCALE:GREGORIAN
BEGIN:VEVENT
UID:criticalmass-one-erlangen-1533916800
DTSTAMP:20260424T105744Z
SUMMARY:Critical Mass Erlangen 10.08.2018
DTSTART;TZID=Europe/Berlin:20180810T180000
DTEND;TZID=Europe/Berlin:20180810T200000
GEO:49.590962;11.006854
URL;VALUE=URI:https://criticalmass.in/erlangen/2018-08-10
END:VEVENT
END:VCALENDAR
