BEGIN:VCALENDAR
VERSION:2.0
PRODID:-//Sabre//Sabre VObject 4.5.8//EN
CALSCALE:GREGORIAN
BEGIN:VEVENT
UID:criticalmass-one-erlangen-1526054400
DTSTAMP:20260423T203617Z
SUMMARY:Critical Mass Erlangen 11.05.2018
DTSTART;TZID=Europe/Berlin:20180511T180000
DTEND;TZID=Europe/Berlin:20180511T200000
GEO:49.590962;11.006854
URL;VALUE=URI:https://criticalmass.in/erlangen/2018-05-11
END:VEVENT
END:VCALENDAR
