BEGIN:VCALENDAR
VERSION:2.0
PRODID:-//Sabre//Sabre VObject 4.5.8//EN
CALSCALE:GREGORIAN
BEGIN:VEVENT
UID:criticalmass-one-erlangen-1502467200
DTSTAMP:20260425T180127Z
SUMMARY:Critical Mass Erlangen 11.08.2017
DTSTART;TZID=Europe/Berlin:20170811T180000
DTEND;TZID=Europe/Berlin:20170811T200000
URL;VALUE=URI:https://criticalmass.in/erlangen/2017-08-11
END:VEVENT
END:VCALENDAR
