BEGIN:VCALENDAR
VERSION:2.0
PRODID:-//Sabre//Sabre VObject 4.5.8//EN
CALSCALE:GREGORIAN
BEGIN:VEVENT
UID:criticalmass-one-erlangen-1500048000
DTSTAMP:20260424T035557Z
SUMMARY:Critical Mass Erlangen 14.07.2017
DTSTART;TZID=Europe/Berlin:20170714T180000
DTEND;TZID=Europe/Berlin:20170714T200000
URL;VALUE=URI:https://criticalmass.in/erlangen/2017-07-14
END:VEVENT
END:VCALENDAR
