BEGIN:VCALENDAR
VERSION:2.0
PRODID:-//Sabre//Sabre VObject 4.5.8//EN
CALSCALE:GREGORIAN
BEGIN:VEVENT
UID:criticalmass-one-erlangen-1494604800
DTSTAMP:20260424T030038Z
SUMMARY:Critical Mass Erlangen 12.05.2017
DTSTART;TZID=Europe/Berlin:20170512T180000
DTEND;TZID=Europe/Berlin:20170512T200000
URL;VALUE=URI:https://criticalmass.in/erlangen/2017-05-12
END:VEVENT
END:VCALENDAR
