BEGIN:VCALENDAR
VERSION:2.0
PRODID:-//Sabre//Sabre VObject 4.5.8//EN
CALSCALE:GREGORIAN
BEGIN:VEVENT
UID:criticalmass-one-erlangen-1489165200
DTSTAMP:20260424T091138Z
SUMMARY:Critical Mass Erlangen 10.03.2017
DTSTART;TZID=Europe/Berlin:20170310T180000
DTEND;TZID=Europe/Berlin:20170310T200000
URL;VALUE=URI:https://criticalmass.in/erlangen/2017-03-10
END:VEVENT
END:VCALENDAR
