BEGIN:VCALENDAR
VERSION:2.0
PRODID:-//Sabre//Sabre VObject 4.5.8//EN
CALSCALE:GREGORIAN
BEGIN:VEVENT
UID:criticalmass-one-erlangen-1484323200
DTSTAMP:20260423T191829Z
SUMMARY:Critical Mass Erlangen 13.01.2017
DTSTART;TZID=Europe/Berlin:20170113T170000
DTEND;TZID=Europe/Berlin:20170113T190000
URL;VALUE=URI:https://criticalmass.in/erlangen/2017-01-13
END:VEVENT
END:VCALENDAR
