BEGIN:VCALENDAR
VERSION:2.0
PRODID:-//Sabre//Sabre VObject 4.5.8//EN
CALSCALE:GREGORIAN
BEGIN:VEVENT
UID:criticalmass-one-erlangen-1463155200
DTSTAMP:20260425T180932Z
SUMMARY:Critical Mass Erlangen 13.05.2016
DTSTART;TZID=Europe/Berlin:20160513T180000
DTEND;TZID=Europe/Berlin:20160513T200000
URL;VALUE=URI:https://criticalmass.in/erlangen/2016-05-13
END:VEVENT
END:VCALENDAR
