BEGIN:VCALENDAR
VERSION:2.0
PRODID:-//Sabre//Sabre VObject 4.5.8//EN
CALSCALE:GREGORIAN
BEGIN:VEVENT
UID:criticalmass-one-erlangen-1457715600
DTSTAMP:20260423T192259Z
SUMMARY:Critical Mass Erlangen 11.03.2016
DTSTART;TZID=Europe/Berlin:20160311T180000
DTEND;TZID=Europe/Berlin:20160311T200000
URL;VALUE=URI:https://criticalmass.in/erlangen/2016-03-11
END:VEVENT
END:VCALENDAR
