BEGIN:VCALENDAR
VERSION:2.0
PRODID:-//Sabre//Sabre VObject 4.5.8//EN
CALSCALE:GREGORIAN
BEGIN:VEVENT
UID:criticalmass-one-erlangen-1455296400
DTSTAMP:20260424T164359Z
SUMMARY:Critical Mass Erlangen 12.02.2016
DTSTART;TZID=Europe/Berlin:20160212T180000
DTEND;TZID=Europe/Berlin:20160212T200000
LOCATION:Rathaus
GEO:49.590962;11.006854
URL;VALUE=URI:https://criticalmass.in/erlangen/2016-02-12
END:VEVENT
END:VCALENDAR
