BEGIN:VCALENDAR
VERSION:2.0
PRODID:-//Sabre//Sabre VObject 4.5.8//EN
CALSCALE:GREGORIAN
BEGIN:VEVENT
UID:criticalmass-one-erlangen-1447434000
DTSTAMP:20260424T134717Z
SUMMARY:Critical Mass Erlangen 13.11.2015
DTSTART;TZID=Europe/Berlin:20151113T180000
DTEND;TZID=Europe/Berlin:20151113T200000
LOCATION:Rathaus
GEO:49.590962;11.006854
URL;VALUE=URI:https://criticalmass.in/erlangen/2015-11-13
END:VEVENT
END:VCALENDAR
