BEGIN:VCALENDAR
VERSION:2.0
PRODID:-//Sabre//Sabre VObject 4.5.8//EN
CALSCALE:GREGORIAN
BEGIN:VEVENT
UID:criticalmass-one-erlangen-1428681600
DTSTAMP:20260423T093519Z
SUMMARY:Critical Mass Erlangen 10.04.2015
DTSTART;TZID=Europe/Berlin:20150410T180000
DTEND;TZID=Europe/Berlin:20150410T200000
LOCATION:Rathaus
GEO:49.590962;11.006854
URL;VALUE=URI:https://criticalmass.in/erlangen/2015-04-10
END:VEVENT
END:VCALENDAR
