BEGIN:VCALENDAR
VERSION:2.0
PRODID:-//Sabre//Sabre VObject 4.5.8//EN
CALSCALE:GREGORIAN
BEGIN:VEVENT
UID:criticalmass-one-erlangen-1423846800
DTSTAMP:20260425T032859Z
SUMMARY:Critical Mass Erlangen 13.02.2015
DTSTART;TZID=Europe/Berlin:20150213T180000
DTEND;TZID=Europe/Berlin:20150213T200000
LOCATION:Rathaus
GEO:49.590962;11.006854
URL;VALUE=URI:https://criticalmass.in/erlangen/2015-02-13
END:VEVENT
END:VCALENDAR
