BEGIN:VCALENDAR
VERSION:2.0
PRODID:-//Sabre//Sabre VObject 4.5.8//EN
CALSCALE:GREGORIAN
BEGIN:VEVENT
UID:criticalmass-one-erlangen-1389373200
DTSTAMP:20260424T023235Z
SUMMARY:Critical Mass Erlangen 10.01.2014
DTSTART;TZID=Europe/Berlin:20140110T180000
DTEND;TZID=Europe/Berlin:20140110T200000
LOCATION:Rathaus
GEO:49.590962;11.006854
URL;VALUE=URI:https://criticalmass.in/erlangen/2014-01-10
END:VEVENT
END:VCALENDAR
