BEGIN:VCALENDAR
VERSION:2.0
PRODID:-//Sabre//Sabre VObject 4.5.8//EN
CALSCALE:GREGORIAN
BEGIN:VEVENT
UID:criticalmass-one-elmshorn-1664010000
DTSTAMP:20260424T182017Z
SUMMARY:Kidical Mass Elmshorn 24.09.2022
DTSTART;TZID=Europe/Berlin:20220924T110000
DTEND;TZID=Europe/Berlin:20220924T130000
LOCATION:Alter Markt 
GEO:53.753484;9.652677
URL;VALUE=URI:https://criticalmass.in/elmshorn/kidical-mass-elmshorn-septem
 ber-2022
END:VEVENT
END:VCALENDAR
