BEGIN:VCALENDAR
VERSION:2.0
PRODID:-//Sabre//Sabre VObject 4.5.8//EN
CALSCALE:GREGORIAN
BEGIN:VEVENT
UID:criticalmass-one-elmshorn-1686931200
DTSTAMP:20260424T105903Z
SUMMARY:Critical Mass Elmshorn 16.06.2023
DESCRIPTION:Wir starten Nordufer am Hafen Am Parkhaus geändert von cm-soci
 al.com
DTSTART;TZID=Europe/Berlin:20230616T180000
DTEND;TZID=Europe/Berlin:20230616T200000
LOCATION:Nordufer am Hafen Am Parkhaus Alle Infos unter https://toot.cm-soc
 ial.com/@CriticalMassElmshorn
GEO:53.751591;9.651988
URL;VALUE=URI:https://criticalmass.in/elmshorn/2023-06-16
END:VEVENT
END:VCALENDAR
