BEGIN:VCALENDAR
VERSION:2.0
PRODID:-//Sabre//Sabre VObject 4.5.8//EN
CALSCALE:GREGORIAN
BEGIN:VEVENT
UID:criticalmass-one-eberswalde-1695474000
DTSTAMP:20260421T032406Z
SUMMARY:Kidical Mass Eberswalde 23.09.2023
DTSTART;TZID=Europe/Berlin:20230923T150000
DTEND;TZID=Europe/Berlin:20230923T170000
LOCATION:Marktplatz
GEO:52.833426;13.820405
URL;VALUE=URI:https://criticalmass.in/eberswalde/kidical-mass-eberswalde-se
 ptember-2023
END:VEVENT
END:VCALENDAR
