BEGIN:VCALENDAR
VERSION:2.0
PRODID:-//Sabre//Sabre VObject 4.5.8//EN
CALSCALE:GREGORIAN
BEGIN:VEVENT
UID:criticalmass-one-eberswalde-1683378000
DTSTAMP:20260420T225638Z
SUMMARY:Kidical Mass Eberswalde 06.05.2023
DTSTART;TZID=Europe/Berlin:20230506T150000
DTEND;TZID=Europe/Berlin:20230506T170000
LOCATION:Marktplatz
GEO:52.837133;13.787587
URL;VALUE=URI:https://criticalmass.in/eberswalde/kidical-mass-eberswalde-ma
 i-2023
END:VEVENT
END:VCALENDAR
