BEGIN:VCALENDAR
VERSION:2.0
PRODID:-//Sabre//Sabre VObject 4.5.8//EN
CALSCALE:GREGORIAN
BEGIN:VEVENT
UID:criticalmass-one-eberswalde-1756481400
DTSTAMP:20260420T225300Z
SUMMARY:Critical Mass Eberswalde 29.08.2025
DTSTART;TZID=Europe/Berlin:20250829T173000
DTEND;TZID=Europe/Berlin:20250829T193000
LOCATION:Am Markt
GEO:52.833534;13.820661
URL;VALUE=URI:https://criticalmass.in/eberswalde/2025-08-29
END:VEVENT
END:VCALENDAR
