BEGIN:VCALENDAR
VERSION:2.0
PRODID:-//Sabre//Sabre VObject 4.5.8//EN
CALSCALE:GREGORIAN
BEGIN:VEVENT
UID:criticalmass-one-eberswalde-1753457400
DTSTAMP:20260420T225222Z
SUMMARY:Critical Mass Eberswalde 25.07.2025
DTSTART;TZID=Europe/Berlin:20250725T173000
DTEND;TZID=Europe/Berlin:20250725T193000
LOCATION:Am Markt
GEO:52.833534;13.820661
URL;VALUE=URI:https://criticalmass.in/eberswalde/2025-07-25
END:VEVENT
END:VCALENDAR
