BEGIN:VCALENDAR
VERSION:2.0
PRODID:-//Sabre//Sabre VObject 4.5.8//EN
CALSCALE:GREGORIAN
BEGIN:VEVENT
UID:criticalmass-one-eberswalde-1745595000
DTSTAMP:20260420T225152Z
SUMMARY:Critical Mass Eberswalde 25.04.2025
DTSTART;TZID=Europe/Berlin:20250425T173000
DTEND;TZID=Europe/Berlin:20250425T193000
LOCATION:Am Markt
GEO:52.833534;13.820661
URL;VALUE=URI:https://criticalmass.in/eberswalde/2025-04-25
END:VEVENT
END:VCALENDAR
