BEGIN:VCALENDAR
VERSION:2.0
PRODID:-//Sabre//Sabre VObject 4.5.8//EN
CALSCALE:GREGORIAN
BEGIN:VEVENT
UID:criticalmass-one-eberswalde-1743179400
DTSTAMP:20260420T225245Z
SUMMARY:Critical Mass Eberswalde 28.03.2025
DTSTART;TZID=Europe/Berlin:20250328T173000
DTEND;TZID=Europe/Berlin:20250328T193000
LOCATION:Am Markt
GEO:52.833534;13.820661
URL;VALUE=URI:https://criticalmass.in/eberswalde/2025-03-28
END:VEVENT
END:VCALENDAR
