BEGIN:VCALENDAR
VERSION:2.0
PRODID:-//Sabre//Sabre VObject 4.5.8//EN
CALSCALE:GREGORIAN
BEGIN:VEVENT
UID:criticalmass-one-eberswalde-1735317000
DTSTAMP:20260421T032132Z
SUMMARY:Critical Mass Eberswalde 27.12.2024
DTSTART;TZID=Europe/Berlin:20241227T173000
DTEND;TZID=Europe/Berlin:20241227T193000
LOCATION:Am Markt
GEO:52.833534;13.820661
URL;VALUE=URI:https://criticalmass.in/eberswalde/2024-12-27
END:VEVENT
END:VCALENDAR
