BEGIN:VCALENDAR
VERSION:2.0
PRODID:-//Sabre//Sabre VObject 4.5.8//EN
CALSCALE:GREGORIAN
BEGIN:VEVENT
UID:criticalmass-one-eberswalde-1711729800
DTSTAMP:20260421T032120Z
SUMMARY:Critical Mass Eberswalde 29.03.2024
DTSTART;TZID=Europe/Berlin:20240329T173000
DTEND;TZID=Europe/Berlin:20240329T193000
LOCATION:Am Markt
GEO:52.833534;13.820661
URL;VALUE=URI:https://criticalmass.in/eberswalde/2024-03-29
END:VEVENT
END:VCALENDAR
