BEGIN:VCALENDAR
VERSION:2.0
PRODID:-//Sabre//Sabre VObject 4.5.8//EN
CALSCALE:GREGORIAN
BEGIN:VEVENT
UID:criticalmass-one-eberswalde-1677256200
DTSTAMP:20260420T225226Z
SUMMARY:Critical Mass Eberswalde 24.02.2023
DTSTART;TZID=Europe/Berlin:20230224T173000
DTEND;TZID=Europe/Berlin:20230224T193000
LOCATION:Am Markt
GEO:52.833534;13.820661
URL;VALUE=URI:https://criticalmass.in/eberswalde/2023-02-24
END:VEVENT
END:VCALENDAR
