BEGIN:VCALENDAR
VERSION:2.0
PRODID:-//Sabre//Sabre VObject 4.5.8//EN
CALSCALE:GREGORIAN
BEGIN:VEVENT
UID:criticalmass-one-eberswalde-1672417800
DTSTAMP:20260420T225222Z
SUMMARY:Critical Mass Eberswalde 30.12.2022
DTSTART;TZID=Europe/Berlin:20221230T173000
DTEND;TZID=Europe/Berlin:20221230T193000
LOCATION:Am Markt
GEO:52.833534;13.820661
URL;VALUE=URI:https://criticalmass.in/eberswalde/2022-12-30
END:VEVENT
END:VCALENDAR
