BEGIN:VCALENDAR
VERSION:2.0
PRODID:-//Sabre//Sabre VObject 4.5.8//EN
CALSCALE:GREGORIAN
BEGIN:VEVENT
UID:criticalmass-one-eberswalde-1669393800
DTSTAMP:20260421T001644Z
SUMMARY:Critical Mass Eberswalde 25.11.2022
DTSTART;TZID=Europe/Berlin:20221125T173000
DTEND;TZID=Europe/Berlin:20221125T193000
LOCATION:Am Markt
GEO:52.833534;13.820661
URL;VALUE=URI:https://criticalmass.in/eberswalde/2022-11-25
END:VEVENT
END:VCALENDAR
