BEGIN:VCALENDAR
VERSION:2.0
PRODID:-//Sabre//Sabre VObject 4.5.8//EN
CALSCALE:GREGORIAN
BEGIN:VEVENT
UID:criticalmass-one-eberswalde-1659108600
DTSTAMP:20260421T001448Z
SUMMARY:Critical Mass Eberswalde 29.07.2022
DTSTART;TZID=Europe/Berlin:20220729T173000
DTEND;TZID=Europe/Berlin:20220729T193000
LOCATION:Am Markt
GEO:52.833534;13.820661
URL;VALUE=URI:https://criticalmass.in/eberswalde/2022-07-29
END:VEVENT
END:VCALENDAR
