BEGIN:VCALENDAR
VERSION:2.0
PRODID:-//Sabre//Sabre VObject 4.5.8//EN
CALSCALE:GREGORIAN
BEGIN:VEVENT
UID:criticalmass-one-eberswalde-1614357000
DTSTAMP:20260420T225300Z
SUMMARY:Critical Mass Eberswalde 26.02.2021
DTSTART;TZID=Europe/Berlin:20210226T173000
DTEND;TZID=Europe/Berlin:20210226T193000
LOCATION:Am Markt
GEO:52.833534;13.820661
URL;VALUE=URI:https://criticalmass.in/eberswalde/2021-02-26
END:VEVENT
END:VCALENDAR
