BEGIN:VCALENDAR
VERSION:2.0
PRODID:-//Sabre//Sabre VObject 4.5.8//EN
CALSCALE:GREGORIAN
BEGIN:VEVENT
UID:criticalmass-one-eberswalde-1604068200
DTSTAMP:20260421T080712Z
SUMMARY:Critical Mass Eberswalde 30.10.2020
DTSTART;TZID=Europe/Berlin:20201030T153000
DTEND;TZID=Europe/Berlin:20201030T173000
LOCATION:Am Markt
GEO:52.833534;13.820661
URL;VALUE=URI:https://criticalmass.in/eberswalde/2020-10-30
END:VEVENT
END:VCALENDAR
