BEGIN:VCALENDAR
VERSION:2.0
PRODID:-//Sabre//Sabre VObject 4.5.8//EN
CALSCALE:GREGORIAN
BEGIN:VEVENT
UID:criticalmass-one-ebersberg-1672421400
DTSTAMP:20260425T231606Z
SUMMARY:Critical Mass Ebersberg 30.12.2022
DTSTART;TZID=Europe/Berlin:20221230T183000
DTEND;TZID=Europe/Berlin:20221230T203000
LOCATION:Marienplatz
GEO:48.078261;11.969288
URL;VALUE=URI:https://criticalmass.in/ebersberg/2022-12-30
END:VEVENT
END:VCALENDAR
