BEGIN:VCALENDAR
VERSION:2.0
PRODID:-//Sabre//Sabre VObject 4.5.8//EN
CALSCALE:GREGORIAN
BEGIN:VEVENT
UID:criticalmass-one-duren-1652616000
DTSTAMP:20260425T140904Z
SUMMARY:Kidical Mass Düren 15.05.2022
DTSTART;TZID=Europe/Berlin:20220515T140000
DTEND;TZID=Europe/Berlin:20220515T160000
LOCATION:Düren Markt
GEO:50.802734;6.483693
URL;VALUE=URI:https://criticalmass.in/duren/kidical-mass-duren-mai-2022
END:VEVENT
END:VCALENDAR
