BEGIN:VCALENDAR
VERSION:2.0
PRODID:-//Sabre//Sabre VObject 4.5.8//EN
CALSCALE:GREGORIAN
BEGIN:VEVENT
UID:criticalmass-one-duren-1642179600
DTSTAMP:20260424T105858Z
SUMMARY:Critical Mass Düren 14.01.2022
DTSTART;TZID=Europe/Berlin:20220114T180000
DTEND;TZID=Europe/Berlin:20220114T200000
LOCATION:Kaiserplatz / Marktplatz
GEO:50.802931;6.483164
URL;VALUE=URI:https://criticalmass.in/duren/2022-01-14
END:VEVENT
END:VCALENDAR
