BEGIN:VCALENDAR
VERSION:2.0
PRODID:-//Sabre//Sabre VObject 4.5.8//EN
CALSCALE:GREGORIAN
BEGIN:VEVENT
UID:criticalmass-one-duren-1617976800
DTSTAMP:20260424T121522Z
SUMMARY:Critical Mass Düren 09.04.2021
DTSTART;TZID=Europe/Berlin:20210409T160000
DTEND;TZID=Europe/Berlin:20210409T180000
LOCATION:Kaiserplatz / Marktplatz
GEO:50.802931;6.483164
URL;VALUE=URI:https://criticalmass.in/duren/2021-04-09
END:VEVENT
END:VCALENDAR
