BEGIN:VCALENDAR
VERSION:2.0
PRODID:-//Sabre//Sabre VObject 4.5.8//EN
CALSCALE:GREGORIAN
BEGIN:VEVENT
UID:criticalmass-one-duren-1552064400
DTSTAMP:20260424T214116Z
SUMMARY:Critical Mass Düren 08.03.2019
DESCRIPTION:5 Jahre Critical MASS Düren\, wir haben unser gestecktes Ziel 
 (50 Menschen auf Rädern) deutlich übertroffen\, 63 Teilnehmer.\nDanke an
  alle\, die zu dieser schönen Tour durch Düren beigetragen haben.\nDanke
  auch an die Polizei\, die sich fair verhalten hat und nur hinten abgesich
 ert hat.
DTSTART;TZID=Europe/Berlin:20190308T180000
DTEND;TZID=Europe/Berlin:20190308T200000
LOCATION:Kaiserplatz / Marktplatz
GEO:50.802931;6.483164
URL;VALUE=URI:https://criticalmass.in/duren/2019-03-08
END:VEVENT
END:VCALENDAR
