BEGIN:VCALENDAR
VERSION:2.0
PRODID:-//Sabre//Sabre VObject 4.5.8//EN
CALSCALE:GREGORIAN
BEGIN:VEVENT
UID:criticalmass-one-duren-1467993600
DTSTAMP:20260425T233756Z
SUMMARY:Critical Mass Düren 08.07.2016
DTSTART;TZID=Europe/Berlin:20160708T180000
DTEND;TZID=Europe/Berlin:20160708T200000
LOCATION:Kaiserplatz / Marktplatz
GEO:50.802931;6.483164
URL;VALUE=URI:https://criticalmass.in/duren/2016-07-08
END:VEVENT
END:VCALENDAR
