BEGIN:VCALENDAR
VERSION:2.0
PRODID:-//Sabre//Sabre VObject 4.5.8//EN
CALSCALE:GREGORIAN
BEGIN:VEVENT
UID:criticalmass-one-duisburg-1652619600
DTSTAMP:20260425T034738Z
SUMMARY:Kidical Mass Duisburg-West
DTSTART;TZID=Europe/Berlin:20220515T150000
DTEND;TZID=Europe/Berlin:20220515T170000
LOCATION:Alfred-Hitz-Platz
GEO:51.411226;6.685696
URL;VALUE=URI:https://criticalmass.in/duisburg/kidical-mass-duisburg-west-m
 ai-2022
END:VEVENT
END:VCALENDAR
