BEGIN:VCALENDAR
VERSION:2.0
PRODID:-//Sabre//Sabre VObject 4.5.8//EN
CALSCALE:GREGORIAN
BEGIN:VEVENT
UID:criticalmass-one-duisburg-1725037200
DTSTAMP:20260421T225228Z
SUMMARY:Critical Mass Duisburg 30.08.2024
DTSTART;TZID=Europe/Berlin:20240830T190000
DTEND;TZID=Europe/Berlin:20240830T210000
LOCATION:Bahnhofsvorplatz
GEO:51.428528;6.773500
URL;VALUE=URI:https://criticalmass.in/duisburg/2024-08-30
END:VEVENT
END:VCALENDAR
