BEGIN:VCALENDAR
VERSION:2.0
PRODID:-//Sabre//Sabre VObject 4.5.8//EN
CALSCALE:GREGORIAN
BEGIN:VEVENT
UID:criticalmass-one-duisburg-1695474000
DTSTAMP:20260425T200147Z
SUMMARY:Kidical Mass Duisburg 23.09.2023
DESCRIPTION:Fahrrad-Demo für und mit Kindern und Jugendlichen.\nFür ein l
 ebenswertes und kinderfreundliches Duisburg.\n\nZubringer Neudorf & Duisse
 rn: 14:15 Uhr Ludgeriplatz\, ca 3\,5 km\nStart: 15:00 Uhr\, Hochfelder Mar
 kt\nZiel: 16:00 Uhr\, Blaues Haus\n3\,5 km
DTSTART;TZID=Europe/Berlin:20230923T150000
DTEND;TZID=Europe/Berlin:20230923T170000
LOCATION:Hochfelder Markt
GEO:51.416924;6.757032
URL;VALUE=URI:https://criticalmass.in/duisburg/2023-09-23
END:VEVENT
END:VCALENDAR
