BEGIN:VCALENDAR
VERSION:2.0
PRODID:-//Sabre//Sabre VObject 4.5.8//EN
CALSCALE:GREGORIAN
BEGIN:VEVENT
UID:criticalmass-one-duisburg-1611943200
DTSTAMP:20260425T164800Z
SUMMARY:Critical Mass Duisburg 29.01.2021
DTSTART;TZID=Europe/Berlin:20210129T190000
DTEND;TZID=Europe/Berlin:20210129T210000
LOCATION:Bahnhofsvorplatz
GEO:51.428528;6.773500
URL;VALUE=URI:https://criticalmass.in/duisburg/2021-01-29
END:VEVENT
END:VCALENDAR
