BEGIN:VCALENDAR
VERSION:2.0
PRODID:-//Sabre//Sabre VObject 4.5.8//EN
CALSCALE:GREGORIAN
BEGIN:VEVENT
UID:criticalmass-one-duisburg-1608919200
DTSTAMP:20260425T181851Z
SUMMARY:Critical Mass Duisburg 25.12.2020
DTSTART;TZID=Europe/Berlin:20201225T190000
DTEND;TZID=Europe/Berlin:20201225T210000
LOCATION:Bahnhofsvorplatz
GEO:51.428528;6.773500
URL;VALUE=URI:https://criticalmass.in/duisburg/2020-12-25
END:VEVENT
END:VCALENDAR
