BEGIN:VCALENDAR
VERSION:2.0
PRODID:-//Sabre//Sabre VObject 4.5.8//EN
CALSCALE:GREGORIAN
BEGIN:VEVENT
UID:criticalmass-one-duisburg-1582912800
DTSTAMP:20260425T194402Z
SUMMARY:Critical Mass Duisburg 28.02.2020
DTSTART;TZID=Europe/Berlin:20200228T190000
DTEND;TZID=Europe/Berlin:20200228T210000
LOCATION:Bahnhofsvorplatz
URL;VALUE=URI:https://criticalmass.in/duisburg/2020-02-28
END:VEVENT
END:VCALENDAR
