BEGIN:VCALENDAR
VERSION:2.0
PRODID:-//Sabre//Sabre VObject 4.5.8//EN
CALSCALE:GREGORIAN
BEGIN:VEVENT
UID:criticalmass-one-duisburg-1535734800
DTSTAMP:20260426T012829Z
SUMMARY:Critical Mass Duisburg 31.08.2018
DTSTART;TZID=Europe/Berlin:20180831T190000
DTEND;TZID=Europe/Berlin:20180831T210000
LOCATION:Bahnhofsvorplatz
URL;VALUE=URI:https://criticalmass.in/duisburg/2018-08-31
END:VEVENT
END:VCALENDAR
