BEGIN:VCALENDAR
VERSION:2.0
PRODID:-//Sabre//Sabre VObject 4.5.8//EN
CALSCALE:GREGORIAN
BEGIN:VEVENT
UID:criticalmass-one-duisburg-1487959200
DTSTAMP:20260425T231442Z
SUMMARY:Critical Mass Duisburg 24.02.2017
DTSTART;TZID=Europe/Berlin:20170224T190000
DTEND;TZID=Europe/Berlin:20170224T210000
LOCATION:Bahnhofsvorplatz
URL;VALUE=URI:https://criticalmass.in/duisburg/2017-02-24
END:VEVENT
END:VCALENDAR
