BEGIN:VCALENDAR
VERSION:2.0
PRODID:-//Sabre//Sabre VObject 4.5.8//EN
CALSCALE:GREGORIAN
BEGIN:VEVENT
UID:criticalmass-one-duisburg-1475254800
DTSTAMP:20260425T181909Z
SUMMARY:Critical Mass Duisburg 30.09.2016
DTSTART;TZID=Europe/Berlin:20160930T190000
DTEND;TZID=Europe/Berlin:20160930T210000
LOCATION:Bahnhofsvorplatz
GEO:51.429745;6.774530
URL;VALUE=URI:https://criticalmass.in/duisburg/2016-09-30
END:VEVENT
END:VCALENDAR
