BEGIN:VCALENDAR
VERSION:2.0
PRODID:-//Sabre//Sabre VObject 4.5.8//EN
CALSCALE:GREGORIAN
BEGIN:VEVENT
UID:criticalmass-one-duisburg-1443196800
DTSTAMP:20260425T164731Z
SUMMARY:Critical Mass Duisburg 25.09.2015
DTSTART;TZID=Europe/Berlin:20150925T180000
DTEND;TZID=Europe/Berlin:20150925T200000
URL;VALUE=URI:https://criticalmass.in/duisburg/2015-09-25
END:VEVENT
END:VCALENDAR
