BEGIN:VCALENDAR
VERSION:2.0
PRODID:-//Sabre//Sabre VObject 4.5.8//EN
CALSCALE:GREGORIAN
BEGIN:VEVENT
UID:criticalmass-one-duisburg-1414774800
DTSTAMP:20260425T231729Z
SUMMARY:Critical Mass Duisburg 31.10.2014
DTSTART;TZID=Europe/Berlin:20141031T180000
DTEND;TZID=Europe/Berlin:20141031T200000
LOCATION:Hauptbahnhof
GEO:51.430748;6.773715
URL;VALUE=URI:https://criticalmass.in/duisburg/2014-10-31
END:VEVENT
END:VCALENDAR
