BEGIN:VCALENDAR
VERSION:2.0
PRODID:-//Sabre//Sabre VObject 4.5.8//EN
CALSCALE:GREGORIAN
BEGIN:VEVENT
UID:criticalmass-one-duesseldorf-1746810000
DTSTAMP:20260424T220552Z
SUMMARY:Critical Mass Düsseldorf 09.05.2025
DTSTART;TZID=Europe/Berlin:20250509T190000
DTEND;TZID=Europe/Berlin:20250509T210000
LOCATION:Fürstenplatz
GEO:51.213192;6.785546
URL;VALUE=URI:https://criticalmass.in/duesseldorf/2025-05-09
END:VEVENT
END:VCALENDAR
