BEGIN:VCALENDAR
VERSION:2.0
PRODID:-//Sabre//Sabre VObject 4.5.8//EN
CALSCALE:GREGORIAN
BEGIN:VEVENT
UID:criticalmass-one-duesseldorf-1723222800
DTSTAMP:20260421T100549Z
SUMMARY:Critical Mass Düsseldorf 09.08.2024
DTSTART;TZID=Europe/Berlin:20240809T190000
DTEND;TZID=Europe/Berlin:20240809T210000
LOCATION:Fürstenplatz
GEO:51.213192;6.785546
URL;VALUE=URI:https://criticalmass.in/duesseldorf/2024-08-09
END:VEVENT
END:VCALENDAR
